BEGIN:VCALENDAR
VERSION:2.0
PRODID:-//eventon.com NONSGML v1.0//EN
CALSCALE:GREGORIAN
METHOD:PUBLISH
BEGIN:VEVENT
UID:69e62c690668c
DTSTAMP:20260420T133849Z
DTSTART:20250115T170000Z
DTEND:20250115T213000Z
LOCATION:Arena Varaždin Šetalište Franje Tuđmana 1\,  Varaždin
SUMMARY:Svjetsko prvenstvo u rukometu 2025.
DESCRIPTION:Svjetsko prvenstvo u rukometu 2025. održati će se u Hrvatsoj\
 ,  Danskoj i Norveškoj od 14. siješčnja do 2. veljače 2025. godine. For
 mat natjecanja isti je kao i na dva protekla SP-a\,  dakle ukupno 32 reprez
 entacije koje su raspoređene u osam skupina po četiri. U Hrvatskoj se nat
 jecanje održava u tri[..]\nhttps://visitvarazdin.hr/events/svjetsko-prvens
 tvo-u-rukometu-2025/
URL:https://visitvarazdin.hr/events/svjetsko-prvenstvo-u-rukometu-2025/
END:VEVENT
END:VCALENDAR