BEGIN:VCALENDAR
VERSION:2.0
PRODID:-//eventon.com NONSGML v1.0//EN
CALSCALE:GREGORIAN
METHOD:PUBLISH
BEGIN:VEVENT
UID:69e624b01a47e
DTSTAMP:20260420T130552Z
DTSTART:20260423T190000Z
DTEND:20260423T220000Z
LOCATION:Picabia pub Trg Matije Gupca 21\,  Varaždin
SUMMARY:SplickaScena: Stand up Vjeruj ti meni
DESCRIPTION:Stand up komedija SplickaScena vraća se u Varaždin\,  te u Pi
 cabia pubu u četvrtak 23.4. gostuje Tomislav Primorac sa svojim stand up s
 howom &#8220;Vjeruj ti meni&#8221;. Tomo nas na duhovit način hvata u kons
 tantnim svakodnevnim pogreškama kojih smo jedva svjesni\,  kirurškom prec
 iznošću secira i najmanji uvrnuti detalj ljudske psihe i[..]\nhttps://vis
 itvarazdin.hr/events/%f0%9d%90%92%f0%9d%90%a9%f0%9d%90%a5%f0%9d%90%a2%f0%9d
 %90%9c%f0%9d%90%a4a%f0%9d%90%92%f0%9d%90%9c%f0%9d%90%9e%f0%9d%90%a7a-%f0%9d
 %90%ac%f0%9d%90%ad%f0%9d%90%9a%f0%9d%90%a7%f0%9d%90%9d%f0%9d%90%ae/
URL:https://visitvarazdin.hr/events/%f0%9d%90%92%f0%9d%90%a9%f0%9d%90%a5%f0%9d%90%a2%f0%9d%90%9c%f0%9d%90%a4a%f0%9d%90%92%f0%9d%90%9c%f0%9d%90%9e%f0%9d%90%a7a-%f0%9d%90%ac%f0%9d%90%ad%f0%9d%90%9a%f0%9d%90%a7%f0%9d%90%9d%f0%9d%90%ae/
END:VEVENT
END:VCALENDAR