BEGIN:VCALENDAR
VERSION:2.0
PRODID:-//eventon.com NONSGML v1.0//EN
CALSCALE:GREGORIAN
METHOD:PUBLISH
BEGIN:VEVENT
UID:69e8c96d02a9b
DTSTAMP:20260422T131317Z
DTSTART:20260424T170000Z
DTEND:20260424T183000Z
LOCATION:GMV - Palača Sermage Trg Miljenka Stančića 3
SUMMARY:Predstavljanje spomen-knjige ‘Vjeko Božo Jarak: Svećenik u svijetu likovnih umjetnika’
DESCRIPTION:U petak\,  24. travnja 2026. godine održat će se predstavljan
 je spomen-knjige ‘Vjeko Božo Jarak: Svećenik u svijetu likovnih umjetni
 ka’. Predstavljanje se održava u organizaciji Grada Varaždina\,  Gradsk
 og muzeja Varaždin i Založbe kralja Tomislava\,  Čapljina. U predstavlja
 nju sudjeluju brojni govornici: Neven Bosilj\,  Alfred Obranić\,  don Ante
  Luburić\,  Stjepan Šutalo\,  Pero Marković\, [..]\nhttps://visitvarazdi
 n.hr/events/predstavljanje-spomen-knjige-vjeko-bozo-jarak-svecenik-u-svijet
 u-likovnih-umjetnika/
URL:https://visitvarazdin.hr/events/predstavljanje-spomen-knjige-vjeko-bozo-jarak-svecenik-u-svijetu-likovnih-umjetnika/
END:VEVENT
END:VCALENDAR