BEGIN:VCALENDAR
VERSION:2.0
PRODID:-//eventon.com NONSGML v1.0//EN
CALSCALE:GREGORIAN
METHOD:PUBLISH
BEGIN:VEVENT
UID:69e8c9615deb5
DTSTAMP:20260422T131305Z
DTSTART:20260424T180000Z
DTEND:20260424T193000Z
LOCATION:Glazbena škola Varaždin Kapucinski trg 8\,  Varaždin
SUMMARY:Koncert Aleksandre Šuklar
DESCRIPTION:U petak\,  24. travnja 2026. godine s početkom u 19:00 sati\, 
  u Glazbenoj školi u Varaždinu održat će se koncert jedne od najistaknu
 tijih mladih europskih udaraljkašica\,  Aleksandre Šuklar.Aleksandra Šuk
 lar međunarodno je priznata multi-perkusionistica i umjetnica na marimbi\,
   poznata po iznimnoj muzikalnosti\,  tehničkoj virtuoznosti i širokom ra
 sponu izražaja koji obuhvaća klasični[..]\nhttps://visitvarazdin.hr/even
 ts/koncert-aleksandre-suklar/
URL:https://visitvarazdin.hr/events/koncert-aleksandre-suklar/
END:VEVENT
END:VCALENDAR