BEGIN:VCALENDAR
VERSION:2.0
PRODID:-//eventon.com NONSGML v1.0//EN
CALSCALE:GREGORIAN
METHOD:PUBLISH
BEGIN:VEVENT
UID:69e8c87c17990
DTSTAMP:20260422T130916Z
DTSTART:20260425T093000Z
DTEND:20260425T110000Z
LOCATION:Muzej anđela S. S. Kranjčevića 14\,  Varaždin
SUMMARY:Moj ljubimac\,  radionica za djecu
DESCRIPTION:U subotu 25. travnja u Muzeju anđela s početkom u 10:30 održ
 ati će se likovno kreativna radionica za djecu pod nazivom Moj ljubimac. R
 adionica traje 90 min. Cijena ulaznice je 10 eur. Rezervacija mjesta na bro
 j telefona 091/349-2406.\nhttps://visitvarazdin.hr/events/moj-ljubimac-radi
 onica-za-djecu/
URL:https://visitvarazdin.hr/events/moj-ljubimac-radionica-za-djecu/
END:VEVENT
END:VCALENDAR