BEGIN:VCALENDAR
VERSION:2.0
PRODID:-//eventon.com NONSGML v1.0//EN
CALSCALE:GREGORIAN
METHOD:PUBLISH
BEGIN:VEVENT
UID:69ecc2e3a765e
DTSTAMP:20260425T133427Z
DTSTART:20260429T180000Z
DTEND:20260429T193000Z
LOCATION:Palača Herzer  Franjevački trg 10
SUMMARY:Srijeda u Muzeju: Mijene - žene kroz povijest / prema životu Barbare Celjske
DESCRIPTION:U sklopu Srijede u Muzeju 29. travnja u palači Herzer GMV-a od
 ržava se program pod nazivom Mijene: žene kroz povijest – prema životu
  Barbare Celjske\,  Crne Kraljice.Ovaj interdisciplinarni panel traga za os
 obnom snagom žene kroz jedinstveni uvid u povijest i simboliku ženskih fi
 gura kroz stoljeća. U središtu je Barbara Celjska\, [..]\nhttps://visitva
 razdin.hr/events/srijeda-u-muzeju-mijene-zene-kroz-povijest-prema-zivotu-ba
 rbare-celjske/
URL:https://visitvarazdin.hr/events/srijeda-u-muzeju-mijene-zene-kroz-povijest-prema-zivotu-barbare-celjske/
END:VEVENT
END:VCALENDAR